BEGIN:VCALENDAR
VERSION:2.0
PRODID:-//eventon.com NONSGML v1.0//EN
CALSCALE:GREGORIAN
METHOD:PUBLISH
BEGIN:VEVENT
UID:69e5fa9c28f76
DTSTAMP:20260420T100620Z
DTSTART:20260307T083000Z
DTEND:20260308T150000Z
LOCATION:
SUMMARY:Philatelia München am 7. und 8. März 2026
DESCRIPTION:&nbsp; Öffnungszeiten: Sa\,  07. März 2026: 9:30 bis 17:30 Uh
 r So\,  08. März 2026: 9:30 bis 16:00 Uhr Adresse: MOC Veranstaltungscente
 r München\,  Halle 2\,  Lilienthalallee 40\,  80939 München/Freimann Der 
 Eintritt ist an beiden Tagen während der Öffnungszeiten frei. Besucher de
 r in der Nachbarhalle gleichzeitig stattfindenden Numismata müssen dort Ei
 ntritt zahlen.\nhttps://www.forge-china.de/events/philatelia-muenchen-am-7-
 und-8-maerz-2026/
URL:https://www.forge-china.de/events/philatelia-muenchen-am-7-und-8-maerz-2026/
END:VEVENT
END:VCALENDAR